BEGIN:VCALENDAR

VERSION:2.0

PRODID:-//hacksw/handcal//NONSGML v1.0//EN

CALSCALE:GREGORIAN

METHOD:PUBLISH

TRANSP:OPAQUE

BEGIN:VEVENT

UID:f80823b51c59ed7baf9fa2440627e942
DTSTAMP:20260421T153545
DTSTART:20251105T060000
DTEND:20251105T120000
SUMMARY:Giornata giubilare dell’Agroambiente
DESCRIPTION:Giornata giubilare dell’Agroambiente
LOCATION:
END:VEVENT

END:VCALENDAR
